BEGIN:VCALENDAR
VERSION:2.0
PRODID:-//eventon.com NONSGML v1.0//EN
BEGIN:VEVENT
UID:69e890bf92599
DTSTAMP:20260422T021127
DTSTART:20200118T010000Z
DTEND:20200119T010000Z
LOCATION:Linn County Fair & Expo 3700 Knox Butte Rd E
SUMMARY:Winter Rod & Speed Show
DESCRIPTION: Winter Rod & Speed Show
END:VEVENT
END:VCALENDAR