BEGIN:VCALENDAR
VERSION:2.0
PRODID:-//eventon.com NONSGML v1.0//EN
BEGIN:VEVENT
UID:69e8d3fa68317
DTSTAMP:20260422T065818
DTSTART:20260519T123000Z
DTEND:20260520T065000Z
LOCATION:Dockside Charters 270 Coast Guard Dr
SUMMARY:Deep Sea Fishing
DESCRIPTION: Deep Sea Fishing
END:VEVENT
END:VCALENDAR