BEGIN:VCALENDAR
VERSION:2.0
PRODID:-//eventon.com NONSGML v1.0//EN
BEGIN:VEVENT
UID:69e8d5d475a06
DTSTAMP:20260422T070612
DTSTART:20260617T123000Z
DTEND:20260618T065000Z
LOCATION:Dockside Charters 270 Coast Guard Dr
SUMMARY:Deep Sea Fishing
DESCRIPTION: Deep Sea Fishing
END:VEVENT
END:VCALENDAR