BEGIN:VCALENDAR
VERSION:2.0
PRODID:-//eventon.com NONSGML v1.0//EN
BEGIN:VEVENT
UID:69e88b1bd8e6c
DTSTAMP:20260422T014723
DTSTART:20260908T130000Z
DTEND:20260909T065000Z
LOCATION:Dockside Charters 270 Coast Guard Dr
SUMMARY:Deep Sea Fishing
DESCRIPTION: Deep Sea Fishing
END:VEVENT
END:VCALENDAR