BEGIN:VCALENDAR
VERSION:2.0
PRODID:-//eventon.com NONSGML v1.0//EN
BEGIN:VEVENT
UID:69e73de45feff
DTSTAMP:20260421T020540
DTSTART:20230407T190000Z
DTEND:20230409T010000Z
LOCATION:
SUMMARY:Medford Pear Blossom Festival
DESCRIPTION: Medford Pear Blossom Festival
END:VEVENT
END:VCALENDAR