BEGIN:VCALENDAR
VERSION:2.0
PRODID:-//eventon.com NONSGML v1.0//EN
BEGIN:VEVENT
UID:69e8d6f012d60
DTSTAMP:20260422T071056
DTSTART:20260915T130000Z
DTEND:20260916T065000Z
LOCATION:Dockside Charters 270 Coast Guard Dr
SUMMARY:Deep Sea Fishing
DESCRIPTION: Deep Sea Fishing
END:VEVENT
END:VCALENDAR